BEGIN:VCALENDAR
VERSION:2.0
METHOD:PUBLISH
BEGIN:VEVENT
DTSTART:20250730T110000
DTEND:20250730T120000
LOCATION:online   
TRANSP: OPAQUE
SEQUENCE:0
UID:
DTSTAMP:20260419T210006Z
SUMMARY:Skalowanie startupu na rynek UK - konsultacje prawne i biznesowe
DESCRIPTION:Planujesz rozwój swojego startupu na rynkach zagranicznych, a szczególnie na rynku brytyjskim? Wielu przedsiębiorców nie zdaje sobie sprawy z wyzwań związanych z ekspansją do Wielkiej......
URL:https://app.evenea.pl/event/skalowanieuklipiec25/
PRIORITY:1
CLASS:PUBLIC
END:VEVENT
END:VCALENDAR
