BEGIN:VCALENDAR
VERSION:2.0
METHOD:PUBLISH
BEGIN:VEVENT
DTSTART:20250131T190000
DTEND:20250131T190000
LOCATION:Biblioteka Publiczna im. Stefana Rowińskiego Wolności 2 63-400  Ostrów Wielkopolski
TRANSP: OPAQUE
SEQUENCE:0
UID:
DTSTAMP:20260421T183451Z
SUMMARY:Krzysztof Skiba - spotkanie autorskie
DESCRIPTION:Szanowni oraz Szanowne! KRZYSZTOF SKIBA będzie naszym gościem. Z pewnością wielu z Was kojarzy naszego gościa ze sceną i mikrofonem, ale zapewniamy, że ma równie wielki talent zarówno do......
URL:https://app.evenea.pl/event/skiba/
PRIORITY:1
CLASS:PUBLIC
END:VEVENT
END:VCALENDAR
