BEGIN:VCALENDAR
VERSION:2.0
METHOD:PUBLISH
BEGIN:VEVENT
DTSTART:20240824T150000
DTEND:20240825T000000
LOCATION:Czasoprzestrzeń Tramwajowa 1-3  Wrocław
TRANSP: OPAQUE
SEQUENCE:0
UID:
DTSTAMP:20260422T190626Z
SUMMARY:Festiwal integracyjny SKOVORODA FEST 2024 | Integration festival SKOVORODA FEST 2024
DESCRIPTION:(en below ⬇️) Fundacja Ukraina zaprasza na festiwal integracyjny SKOVORODA FEST 2024 w ramach 33. obchodów Dnia Niepodległości Ukrainy - w tym roku w jeszcze bardziej różnorodnej......
URL:https://app.evenea.pl/event/skovorodafest/
PRIORITY:1
CLASS:PUBLIC
END:VEVENT
END:VCALENDAR
