BEGIN:VCALENDAR
VERSION:2.0
METHOD:PUBLISH
BEGIN:VEVENT
DTSTART:20240527T180000
DTEND:20240527T180000
LOCATION:ProMedia (Filia nr 54) al. Wojska Polskiego 2  Szczecin
TRANSP: OPAQUE
SEQUENCE:0
UID:
DTSTAMP:20260422T140052Z
SUMMARY:Literacka skrzynia inspiracji - warsztaty dla dzieci [W Pogoni za książką]
DESCRIPTION:A co by było gdyby……gdyby tak znaleźć czarodziejską skrzynię, która przy pomocy specjalnego zaklęcia potrafiłaby zamienić dowolną rzecz w inną?No to pytanie odpowiemy podczas......
URL:https://app.evenea.pl/event/skrzyniainspiracji/
PRIORITY:1
CLASS:PUBLIC
END:VEVENT
END:VCALENDAR
