BEGIN:VCALENDAR
VERSION:2.0
METHOD:PUBLISH
BEGIN:VEVENT
DTSTART:20260427T170000
DTEND:20260427T183000
LOCATION:Stowarzyszenie KLANZA w Białymstoku Witosa 15B (II piętro)  Białystok
TRANSP: OPAQUE
SEQUENCE:0
UID:
DTSTAMP:20260419T171343Z
SUMMARY:Kolorowe wiosenne słoiki decoupage | Otwarte Warsztaty Tematyczne
DESCRIPTION:✨ Kolorowe słoiki decoupage ✨ Zamień zwykły słoik w małe dzieło sztuki! 🌸🖌️ Otwarte Warsztaty Tematyczne dla dzieci 8-12 lat i opiekunów! 🎨📅 27.04.2026 (poniedziałek) |......
URL:https://app.evenea.pl/event/sloikidecoupage/
PRIORITY:1
CLASS:PUBLIC
END:VEVENT
END:VCALENDAR
