BEGIN:VCALENDAR
VERSION:2.0
METHOD:PUBLISH
BEGIN:VEVENT
DTSTART:20260328T110000
DTEND:20260328T110000
LOCATION:Galeria Słowiańska ul. Jeleniogórska 42  Łagów k/Zgorzelca
TRANSP: OPAQUE
SEQUENCE:0
UID:
DTSTAMP:20260422T131806Z
SUMMARY:Wielkanocne warsztaty w Galerii Słowiańskiej - zarezerwuj miejsce!
DESCRIPTION:W sobotę, 28 marca, Galeria Słowiańska zamieni się w wiosenną pracownię artystyczną. W godzinach 11.00-16.00 będzie można wziąć udział w bezpłatnych warsztatach kreatywnych, które......
URL:https://app.evenea.pl/event/slowianska-wielkanocne-warsztatowanie/
PRIORITY:1
CLASS:PUBLIC
END:VEVENT
END:VCALENDAR
