BEGIN:VCALENDAR
VERSION:2.0
METHOD:PUBLISH
BEGIN:VEVENT
DTSTART:20240913T163000
DTEND:20240913T183000
LOCATION:Książnica Pomorska Podgórna 15/16  Szczecin
TRANSP: OPAQUE
SEQUENCE:0
UID:
DTSTAMP:20260422T091328Z
SUMMARY:Słuchaj i Twórz: Koralikowe Cuda
DESCRIPTION:Zapraszamy młodzież na warsztaty "Słuchaj i Twórz: Koralikowe Cuda" w Książnicy Pomorskiej! To wyjątkowa okazja, aby połączyć literaturę ze sztuką i rozwijać swoje umiejętności......
URL:https://app.evenea.pl/event/sluchajitworz1/
PRIORITY:1
CLASS:PUBLIC
END:VEVENT
END:VCALENDAR
