BEGIN:VCALENDAR
VERSION:2.0
METHOD:PUBLISH
BEGIN:VEVENT
DTSTART:20240920T163000
DTEND:20240920T183000
LOCATION:Książnica Pomorska Podgórna 15/16  Szczecin
TRANSP: OPAQUE
SEQUENCE:0
UID:
DTSTAMP:20260424T070204Z
SUMMARY:Słuchaj i Twórz: Torba w Twoim Stylu
DESCRIPTION:Zapraszamy młodzież na kreatywne warsztaty "Słuchaj i Twórz: Torba w Twoim stylu" w Książnicy Pomorskiej! To wyjątkowe zajęcia, które łączą pasję do literatury i sztuki użytkowej.......
URL:https://app.evenea.pl/event/sluchajitworz2/
PRIORITY:1
CLASS:PUBLIC
END:VEVENT
END:VCALENDAR
