BEGIN:VCALENDAR
VERSION:2.0
METHOD:PUBLISH
BEGIN:VEVENT
DTSTART:20211229T183000
DTEND:20211229T193000
LOCATION:Halo Kultura Jana z Kolna 37/53  Gdynia
TRANSP: OPAQUE
SEQUENCE:0
UID:
DTSTAMP:20260424T160511Z
SUMMARY:Prapremiera słuchowiska pt. "Przejrzysta aura poranków świata"
DESCRIPTION:Zapraszamy na prapremierę słuchowiska pt. "Przejrzysta aura poranków świata" - tragedia. Sztuka autorstwa Christophe Fremaux opowiada o rybaku, ojcu dwóch młodych chłopców, który załamuje......
URL:https://app.evenea.pl/event/sluchowisko1/
PRIORITY:1
CLASS:PUBLIC
END:VEVENT
END:VCALENDAR
