BEGIN:VCALENDAR
VERSION:2.0
METHOD:PUBLISH
BEGIN:VEVENT
DTSTART:20260522T130000
DTEND:20260522T180000
LOCATION:Europejskie Centrum Solidarności plac Solidarności 1  Gdańsk
TRANSP: OPAQUE
SEQUENCE:0
UID:
DTSTAMP:20260422T221623Z
SUMMARY:Stwardnienie rozsiane - Dzień Ekspercki (konferencja dla ekspertów, Gdańsk, 22.05.2026)
DESCRIPTION:Zapraszamy osoby pracujące bądź planujące pracować z pacjentami chorującymi na stwardnienie rozsiane do rejestracji na Dzień Ekspercki, towarzyszący 7. Ogólnopolskiej Konferencji dla osób......
URL:https://app.evenea.pl/event/smdzienekspercki26/
PRIORITY:1
CLASS:PUBLIC
END:VEVENT
END:VCALENDAR
