BEGIN:VCALENDAR
VERSION:2.0
METHOD:PUBLISH
BEGIN:VEVENT
DTSTART:20230223T110000
DTEND:20230223T114500
LOCATION:online   
TRANSP: OPAQUE
SEQUENCE:0
UID:
DTSTAMP:20260421T135153Z
SUMMARY:Fundusze na własność intelektualną. Zdobądź dofinansowanie!
DESCRIPTION:Firmy posiadające prawa własności intelektualnej notują o 68%\n\nwyższe dochody na pracownika w porównaniu do przedsiębiorstw, które tych praw\n\nnie mają. Skorzystaj z programu SME fund i......
URL:https://app.evenea.pl/event/smefund/
PRIORITY:1
CLASS:PUBLIC
END:VEVENT
END:VCALENDAR
