BEGIN:VCALENDAR
VERSION:2.0
METHOD:PUBLISH
BEGIN:VEVENT
DTSTART:20241211T180000
DTEND:20241211T180000
LOCATION:Centrum Dolna Brama w Gdańsku ul. Dolna Brama 8  Gdańsk
TRANSP: OPAQUE
SEQUENCE:0
UID:
DTSTAMP:20260422T190630Z
SUMMARY:O stwardnieniu rozsianym przy kawie. Spotkanie z Fundacją StwardnienieRozsiane.info w Gdańsku.
DESCRIPTION:Zapraszamy na kameralne spotkanie przy kawie z przedstawicielami naszej fundacji. To okazja do rozmowy, zadawania pytań i wymiany doświadczeń. Szczególne zaproszenie kierujemy do:☕ Osób w......
URL:https://app.evenea.pl/event/smgdansk111224/
PRIORITY:1
CLASS:PUBLIC
END:VEVENT
END:VCALENDAR
