BEGIN:VCALENDAR
VERSION:2.0
METHOD:PUBLISH
BEGIN:VEVENT
DTSTART:20260523T100000
DTEND:20260524T160000
LOCATION:Europejskie Centrum Solidarności plac Solidarności 1  Gdańsk
TRANSP: OPAQUE
SEQUENCE:0
UID:
DTSTAMP:20260422T203452Z
SUMMARY:7. Ogólnopolska Konferencja "SM - i co z tego?", 23-24 maja 2026 r. w Gdańsku
DESCRIPTION:Jesteś osobą ze stwardnieniem rozsianym, ktoś z Twoich bliskich lub znajomych ma SM, a może po prostu chcesz lepiej zrozumieć tę chorobę? Fundacja StwardnienieRozsiane.info zaprasza Cię do......
URL:https://app.evenea.pl/event/smicoztego2026/
PRIORITY:1
CLASS:PUBLIC
END:VEVENT
END:VCALENDAR
