BEGIN:VCALENDAR
VERSION:2.0
METHOD:PUBLISH
BEGIN:VEVENT
DTSTART:20241130T170000
DTEND:20241130T190000
LOCATION:Klaster Innowacji Społeczno-Gospodarczych Zabłocie 20.22 ul. Zabłocie 22, budynek B  Kraków
TRANSP: OPAQUE
SEQUENCE:0
UID:
DTSTAMP:20260422T190626Z
SUMMARY:O stwardnieniu rozsianym przy kawie. Spotkanie z Fundacją StwardnienieRozsiane.info w Krakowie.
DESCRIPTION:Zapraszamy na kameralne spotkanie przy kawie z przedstawicielami naszej fundacji. To okazja do rozmowy, zadawania pytań i wymiany doświadczeń. Szczególne zaproszenie kierujemy do:☕ Osób w......
URL:https://app.evenea.pl/event/smkrakow301124/
PRIORITY:1
CLASS:PUBLIC
END:VEVENT
END:VCALENDAR
