BEGIN:VCALENDAR
VERSION:2.0
METHOD:PUBLISH
BEGIN:VEVENT
DTSTART:20231020T083000
DTEND:20231020T103000
LOCATION:Pocysterski Zespół Klasztorno-Pałacowy - Restauracja Cysterska ul. Cysterska 4  Rudy
TRANSP: OPAQUE
SEQUENCE:0
UID:
DTSTAMP:20260424T115716Z
SUMMARY:Śniadanie biznesowe dla przedsiębiorców społecznych
DESCRIPTION:Zapraszamy na śniadanie biznesowe dla przedsiębiorców społecznych, które odbędzie się 20 października w Pocysterskim Zespole Klasztorno-Pałacowym w Rudach, prowadzonym przez Fundację......
URL:https://app.evenea.pl/event/sniadanie-przedsiebiorcow-spolecznych-2023/
PRIORITY:1
CLASS:PUBLIC
END:VEVENT
END:VCALENDAR
