BEGIN:VCALENDAR
VERSION:2.0
METHOD:PUBLISH
BEGIN:VEVENT
DTSTART:20240622T110000
DTEND:20240622T130000
LOCATION:Miejsce Otwarte. Centrum Integracji Międzykulturowej. Kraków, Kraków os. Górali 24  Kraków
TRANSP: OPAQUE
SEQUENCE:0
UID:
DTSTAMP:20260423T062931Z
SUMMARY:O rytuałach piękna przy śniadaniu - spotkanie dla kobiet | About beauty rituals over breakfast - meeting for women | Про ритуали краси за сніданком - зустріч для жінок
DESCRIPTION:Grupa wiekowa: 18+Język prowadzenia: angielski, polski, ukraińskiPLZapraszamy na śniadanie z muzyką i rozmową na temat rytuałów piękna kobiet w różnych kulturach. Będą to opowieści z......
URL:https://app.evenea.pl/event/sniadaniedlakobiet/
PRIORITY:1
CLASS:PUBLIC
END:VEVENT
END:VCALENDAR
