BEGIN:VCALENDAR
VERSION:2.0
METHOD:PUBLISH
BEGIN:VEVENT
DTSTART:20260424T093000
DTEND:20260424T093000
LOCATION:Hotel Mercure Gdańsk Stare Miasto Jana Heweliusza 22  Gdańsk
TRANSP: OPAQUE
SEQUENCE:0
UID:
DTSTAMP:20260420T100122Z
SUMMARY:Śniadanie Mistrzyń #40 Anna Strzałkowska
DESCRIPTION:Śniadanie Mistrzyń # 40dr Anna Strzałkowska24.04.2026Zapraszamy Was na pierwsze w tym roku Śniadanie Mistrzyń!Będzie to spotkanie z niezwykłą Mistrzynią, drAnią Strzałkowską -......
URL:https://app.evenea.pl/event/sniadaniemistrzyn-40/
PRIORITY:1
CLASS:PUBLIC
END:VEVENT
END:VCALENDAR
