BEGIN:VCALENDAR
VERSION:2.0
METHOD:PUBLISH
BEGIN:VEVENT
DTSTART:20230427T090000
DTEND:20230427T120000
LOCATION:Uniwersytecki Inkubator Przedsiębiorczości inQUBE Wielka 67  Wrocław
TRANSP: OPAQUE
SEQUENCE:0
UID:
DTSTAMP:20260419T210156Z
SUMMARY:Śniadanie networkingowe inQUBE
DESCRIPTION:27 kwietnia zapraszamy do inQUBE, gdzie odbędzie się kolejna edycja bezpłatnego śniadania networkingowego. Celem inicjatywy jest wsparcie rozwoju oraz integracja lokalnego ekosystemu......
URL:https://app.evenea.pl/event/sniadanienetworkingowekwiecien2023/
PRIORITY:1
CLASS:PUBLIC
END:VEVENT
END:VCALENDAR
