BEGIN:VCALENDAR
VERSION:2.0
METHOD:PUBLISH
BEGIN:VEVENT
DTSTART:20230809T083000
DTEND:20230809T083000
LOCATION:Podkarpacki Park Naukowo-Technologiczny AEROPOLIS Jasionka 954  Jasionka
TRANSP: OPAQUE
SEQUENCE:0
UID:
DTSTAMP:20260422T133423Z
SUMMARY:Śniadanie w AEROPOLIS - SIERPIEŃ 2023
DESCRIPTION:ZAPRASZAMY NA ŚNIADANIE w AEROPOLIS #3/2023.Bezpłatne spotkanie z cyklu ŚNIADANIE w AEROPOLIS #3/2023 pt. DOTACJE NA INNOWACJEZapraszamy na bezpłatne konsultacje dotyczące dostępnych i......
URL:https://app.evenea.pl/event/sniadaniesierpien2023/
PRIORITY:1
CLASS:PUBLIC
END:VEVENT
END:VCALENDAR
