BEGIN:VCALENDAR
VERSION:2.0
METHOD:PUBLISH
BEGIN:VEVENT
DTSTART:20250917T090000
DTEND:20250917T103000
LOCATION:Pomorski Park Naukowo-Technologiczny Gdynia al. Zwycięstwa 96/98, budynek VI, sala A0.01  Gdynia
TRANSP: OPAQUE
SEQUENCE:0
UID:
DTSTAMP:20260420T044453Z
SUMMARY:Śniadanie w Parku | PitchDay
DESCRIPTION:kiedy: środa, 17 września 2025, godz. 09:00 - 10:30gdzie: PPNT Gdynia, budynek IV, sala A0.01wstęp: bezpłatny, wydarzenie skierowane do Parkowiczów i Coworkerów, obowiązują zapisy......
URL:https://app.evenea.pl/event/sniadaniewparkuxi/
PRIORITY:1
CLASS:PUBLIC
END:VEVENT
END:VCALENDAR
