BEGIN:VCALENDAR
VERSION:2.0
METHOD:PUBLISH
BEGIN:VEVENT
DTSTART:20231124T110000
DTEND:20231124T120000
LOCATION:online   
TRANSP: OPAQUE
SEQUENCE:0
UID:
DTSTAMP:20260420T014511Z
SUMMARY:Śniadanie z inwestorem - konsultacje indywidualne online
DESCRIPTION:Podczas konsultacji inwestor doradzi w kwestii:Finansowania startupówTworzenia startupów Wdrażanie nowych produktów na rynek Skalowaniu przedsięwzięć biznesowych w zakresie sprzedaży,......
URL:https://app.evenea.pl/event/sniadaniezinwestoremkglistopad23/
PRIORITY:1
CLASS:PUBLIC
END:VEVENT
END:VCALENDAR
