BEGIN:VCALENDAR
VERSION:2.0
METHOD:PUBLISH
BEGIN:VEVENT
DTSTART:20210521T090000
DTEND:20210521T100000
LOCATION:online   
TRANSP: OPAQUE
SEQUENCE:0
UID:
DTSTAMP:20260425T181155Z
SUMMARY:Śniadanie z inwestorem - konsultacje indywidualne online
DESCRIPTION:Konsultacje to szansa na przedstawienie swojego pomysłu na biznes. Podczas spotkania inwestor doradzi w kwestii:Finansowania startupówTworzenia startupów Wdrażanie nowych produktów na rynek......
URL:https://app.evenea.pl/event/sniadaniezinwestoremmajtp/
PRIORITY:1
CLASS:PUBLIC
END:VEVENT
END:VCALENDAR
