BEGIN:VCALENDAR
VERSION:2.0
METHOD:PUBLISH
BEGIN:VEVENT
DTSTART:20241018T090000
DTEND:20241018T100000
LOCATION:online   
TRANSP: OPAQUE
SEQUENCE:0
UID:
DTSTAMP:20260421T140856Z
SUMMARY:Śniadanie z inwestorem - konsultacje indywidualne online
DESCRIPTION:Podczas konsultacji inwestor doradzi w kwestii:Finansowania startupówTworzenia startupów Wdrażanie nowych produktów na rynek Przygotowania profesjonalnego pitch deckuUczestnicy proszeni są o......
URL:https://app.evenea.pl/event/sniadaniezinwestoremsgpazdziernik24/
PRIORITY:1
CLASS:PUBLIC
END:VEVENT
END:VCALENDAR
