BEGIN:VCALENDAR
VERSION:2.0
METHOD:PUBLISH
BEGIN:VEVENT
DTSTART:20200430T090000
DTEND:20200510T235900
LOCATION:Manggha Museum of Japanese Art and Technology Konopnickiej 26 street  Kraków
TRANSP: OPAQUE
SEQUENCE:0
UID:
DTSTAMP:20260422T201452Z
SUMMARY:soap! 2020 | the best content conference
DESCRIPTION:We'll be back on June 3-5, 2020. Go and talk to your manager and book the date for you now! These three days filled with workshops and talks will greatly help you grow professionally and as a......
URL:https://app.evenea.pl/event/soap2020/
PRIORITY:1
CLASS:PUBLIC
END:VEVENT
END:VCALENDAR
