BEGIN:VCALENDAR
VERSION:2.0
METHOD:PUBLISH
BEGIN:VEVENT
DTSTART:20230602T090000
DTEND:20230603T170000
LOCATION:   
TRANSP: OPAQUE
SEQUENCE:0
UID:
DTSTAMP:20260425T225044Z
SUMMARY:soap! 2023 | the best content conference | VIRTUAL
DESCRIPTION:*IMPORTANT: For reasons beyond our control, the conference date has been changed from May 31st - June 2nd to June 1st - 3rd. If you have any questions, please contact us. We apologize for any......
URL:https://app.evenea.pl/event/soap2023-virtual/
PRIORITY:1
CLASS:PUBLIC
END:VEVENT
END:VCALENDAR
