BEGIN:VCALENDAR
VERSION:2.0
METHOD:PUBLISH
BEGIN:VEVENT
DTSTART:20260226T103000
DTEND:20260226T130000
LOCATION:42 Warsaw aleja Solidarności 171B  00-877 Warszawa
TRANSP: OPAQUE
SEQUENCE:0
UID:
DTSTAMP:20260421T165102Z
SUMMARY:SoDA Brunch: Warszawa
DESCRIPTION:Zapraszamy na Brunch SoDA w Warszawie. Spotkanie skierowane jest do osób zarządzających firmami IT. 🕥 26 lutego, godz.10:30-13:00📍 42 Warsaw, aleja Solidarności 171BAgenda:10.30 - 11.00 -......
URL:https://app.evenea.pl/event/soda-brunch-warszawa26/
PRIORITY:1
CLASS:PUBLIC
END:VEVENT
END:VCALENDAR
