BEGIN:VCALENDAR
VERSION:2.0
METHOD:PUBLISH
BEGIN:VEVENT
DTSTART:20251007T170000
DTEND:20251007T220000
LOCATION:Duża Scena Teatru Śląskiego Rynek 10  Katowice
TRANSP: OPAQUE
SEQUENCE:0
UID:
DTSTAMP:20260423T142849Z
SUMMARY:SoDA Meetup: Katowice
DESCRIPTION:SoDA Meetup w Katowicach. Być albo nie być - AI wystawia ostatni spektakl dla software'u Największe wydarzenie SoDA tej jesieni odbędzie się tam, gdzie emocje grają najgłośniej - na......
URL:https://app.evenea.pl/event/soda-meetup-katowice/
PRIORITY:1
CLASS:PUBLIC
END:VEVENT
END:VCALENDAR
