BEGIN:VCALENDAR
VERSION:2.0
METHOD:PUBLISH
BEGIN:VEVENT
DTSTART:20251129T190000
DTEND:20251129T223000
LOCATION:Sofitel Grand Sopot, Restauracja Grand Blue Powstańców Warszawy 12/14  Sopot, Poland
TRANSP: OPAQUE
SEQUENCE:0
UID:
DTSTAMP:20260425T000129Z
SUMMARY:Kolacja degustacyjna Grand Champagne Night w hotelu Sofitel Grand Sopot - 29 listopada
DESCRIPTION:Poznaj sekrety profesjonalnego degustowania i łączenia najwyższej klasy trunków z wyborną kuchnią.Zapraszamy Państwa do Restauracji Grand Blue we wnętrzach hotelu Sofitel Grand Sopot, gdzie......
URL:https://app.evenea.pl/event/sofitelgrandsopotkolacjakomentowanagrandchampagnenight/
PRIORITY:1
CLASS:PUBLIC
END:VEVENT
END:VCALENDAR
