BEGIN:VCALENDAR
VERSION:2.0
METHOD:PUBLISH
BEGIN:VEVENT
DTSTART:20211203T180000
DTEND:20211203T200000
LOCATION:Audytorium Akademii Marynarki Wojennej (budynek Biblioteki Głównej, wejście od ul. Grudzińskiego) ul. Śmidowicza 69  Gdynia
TRANSP: OPAQUE
SEQUENCE:0
UID:
DTSTAMP:20260425T005048Z
SUMMARY:Kino dzielnicowe #w Gdyni - "Sound of Metal" (Oksywie)
DESCRIPTION:Sześć nominacji do Oscara! "Sound of Metal" to jeden z najbardziej fascynujących filmów, tego roku. Poruszająca, pełna emocji opowieść o losach pary, która z dnia na dzień musi zmierzyć......
URL:https://app.evenea.pl/event/sofmoksywie/
PRIORITY:1
CLASS:PUBLIC
END:VEVENT
END:VCALENDAR
