BEGIN:VCALENDAR
VERSION:2.0
METHOD:PUBLISH
BEGIN:VEVENT
DTSTART:20221109T120000
DTEND:20221109T130000
LOCATION:Instytut Informatyki UMCS (Aula D105) Akademicka 9  Lublin
TRANSP: OPAQUE
SEQUENCE:0
UID:
DTSTAMP:20260422T124836Z
SUMMARY:Agile vs Waterfall
DESCRIPTION:Chciał(a)byś poszerzyć swoją wiedzę z zakresu zwinnych metodyk wytwarzania oprogramowania, a także dowiedzieć się , jak rozpoznać i wybrać właściwą w komercyjnym projekcie?Nie przegap......
URL:https://app.evenea.pl/event/sollers-agile/
PRIORITY:1
CLASS:PUBLIC
END:VEVENT
END:VCALENDAR
