BEGIN:VCALENDAR
VERSION:2.0
METHOD:PUBLISH
BEGIN:VEVENT
DTSTART:20200530T100000
DTEND:20200530T111500
LOCATION:   
TRANSP: OPAQUE
SEQUENCE:0
UID:
DTSTAMP:20260425T234442Z
SUMMARY:Soloseks 2.0 | Masturbacja dla praktykujących | Warsztaty online
DESCRIPTION:Zakończ Miesiąc Masturbacji z przytupem i dowiedz się, jak przenieść swój seks solo o poziom wyżej! Soloseks, samomiłość, masturbacja... Jakąkolwiek nazwą określasz seksualną relację......
URL:https://app.evenea.pl/event/soloseks-2-0-online-maj/
PRIORITY:1
CLASS:PUBLIC
END:VEVENT
END:VCALENDAR
