BEGIN:VCALENDAR
VERSION:2.0
METHOD:PUBLISH
BEGIN:VEVENT
DTSTART:20260523T210000
DTEND:20260524T040000
LOCATION:Młyńska12 Młyńska 12  Poznań
TRANSP: OPAQUE
SEQUENCE:0
UID:
DTSTAMP:20260424T143007Z
SUMMARY:SOUNDS OF POZNAŃ 28. / THE GATEWAY TO EUFORIA FESTIVAL
DESCRIPTION:SOUNDS OF POZNAŃ - THE GATEWAY TO EUFORIA FESTIVAL🔊 23 Maja | start 21:00 | Młyńska12 - DziedziniecMUZYKA ◦ LUDZIE ◦ MIASTO ◦ EUFORIA Już 23 maja widzimy się w Młyńska12 na wielkim......
URL:https://app.evenea.pl/event/sopeuforia/
PRIORITY:1
CLASS:PUBLIC
END:VEVENT
END:VCALENDAR
