BEGIN:VCALENDAR
VERSION:2.0
METHOD:PUBLISH
BEGIN:VEVENT
DTSTART:20250530T190000
DTEND:20250530T230000
LOCATION:L'Entre Villes, Sopot Aleja Niepodległości 737  Sopot
TRANSP: OPAQUE
SEQUENCE:0
UID:
DTSTAMP:20260421T212219Z
SUMMARY:Sopockie Perły w L'Entre Villes. 30,05,'25.
DESCRIPTION:UWAGA, drodzy Państwo! Już 30,05,'25 w L'Entre Villes, Sopot, czeka Was wyjątkowe kulinarne wydarzenie!Zdobywcy Sopockich Pereł oraz wyróżnieni w Przewodniku Michelin Szefowie Kuchni -......
URL:https://app.evenea.pl/event/sopockieperly/
PRIORITY:1
CLASS:PUBLIC
END:VEVENT
END:VCALENDAR
