BEGIN:VCALENDAR
VERSION:2.0
METHOD:PUBLISH
BEGIN:VEVENT
DTSTART:20260521T090000
DTEND:20260523T180000
LOCATION:Kościół Zielonoświąkowy BETEL Daszyńskiego 75  Ustroń
TRANSP: OPAQUE
SEQUENCE:0
UID:
DTSTAMP:20260421T193112Z
SUMMARY:SOUL CARE - UZDROWIENIE DUSZY
DESCRIPTION:SOUL CARE - UZDROWIENIE DUSZY Konferencja z Robem Reimerem 21-23 maja 2026 | UstrońGość specjalny: Rob Reimer - autor międzynarodowego programu i książki Soul Care, nauczyciel i lider......
URL:https://app.evenea.pl/event/soulcare/
PRIORITY:1
CLASS:PUBLIC
END:VEVENT
END:VCALENDAR
