BEGIN:VCALENDAR
VERSION:2.0
METHOD:PUBLISH
BEGIN:VEVENT
DTSTART:20241128T083000
DTEND:20241128T180000
LOCATION:Brain Embassy (Adgar Park West, parter, budynek B ) Aleje Jerozolimskie 181  Warszawa
TRANSP: OPAQUE
SEQUENCE:0
UID:
DTSTAMP:20260423T140502Z
SUMMARY:Konferencja Space.Connect #2
DESCRIPTION:Europejska Agencja Kosmiczna wraz z Brokerami ESA w Polsce zaprasza na drugą edycję wydarzenia łączącego sektor kosmiczny z pozostałymi branżami. Konferencja Space.Connect daje możliwość......
URL:https://app.evenea.pl/event/space-connect-2/
PRIORITY:1
CLASS:PUBLIC
END:VEVENT
END:VCALENDAR
