BEGIN:VCALENDAR
VERSION:2.0
METHOD:PUBLISH
BEGIN:VEVENT
DTSTART:20210525T180000
DTEND:20210525T193000
LOCATION:Online   
TRANSP: OPAQUE
SEQUENCE:0
UID:
DTSTAMP:20260425T011134Z
SUMMARY:SpaceHUB: Jak pozyskać finansowanie z Horyzontu Europa?
DESCRIPTION:🔴Transmisja na żywo odbędzie się na:Facebooku - fanpage SpaceHUBYouTube - kanał We Need More Space\n\n	Program Horyzont Europa jest kontynuacją programu Horyzont 2020, obecnego programu UE......
URL:https://app.evenea.pl/event/spacehub31/
PRIORITY:1
CLASS:PUBLIC
END:VEVENT
END:VCALENDAR
