BEGIN:VCALENDAR
VERSION:2.0
METHOD:PUBLISH
BEGIN:VEVENT
DTSTART:20260310T153000
DTEND:20260310T153000
LOCATION:   
TRANSP: OPAQUE
SEQUENCE:0
UID:
DTSTAMP:20260421T193525Z
SUMMARY:Spacer "Wrocławskie lekarki, które zmieniały świat"
DESCRIPTION:Spacer "Wrocławskie lekarki, które zmieniały świat".Kiedy: 10 marca (wtorek), godz. 15.30.Start: Pomnik Zwierząt Doświadczalnych, dokładna pinezka zostanie wysłana przed spacerem. Dziś,......
URL:https://app.evenea.pl/event/spacer-herstorie-umw/
PRIORITY:1
CLASS:PUBLIC
END:VEVENT
END:VCALENDAR
