BEGIN:VCALENDAR
VERSION:2.0
METHOD:PUBLISH
BEGIN:VEVENT
DTSTART:20250706T121500
DTEND:20250706T121500
LOCATION:Plac przed kościołem pokamedulskim Dewajtis 3  Warszawa
TRANSP: OPAQUE
SEQUENCE:0
UID:
DTSTAMP:20260425T174737Z
SUMMARY:Spacer po Eremie Pokamedulskim  - I TURA
DESCRIPTION:EREM KAMEDULSKI NA BIELANACH W FOTOGRAFIACH LEONA BARSZCZEWSKIEGODATA: 6.07.2025, godz. 12:15MIEJSCE ZBIÓRKI: Plac przed Kościołem, ul. Dewajtis 3, Parafia bł. E. DetkensaJeszcze do niedawna......
URL:https://app.evenea.pl/event/spacerbarszczewski/
PRIORITY:1
CLASS:PUBLIC
END:VEVENT
END:VCALENDAR
