BEGIN:VCALENDAR
VERSION:2.0
METHOD:PUBLISH
BEGIN:VEVENT
DTSTART:20250720T121500
DTEND:20250720T121500
LOCATION:Plac przed kościołem pokamedulskim Dewajtis 3  Warszawa
TRANSP: OPAQUE
SEQUENCE:0
UID:
DTSTAMP:20260425T174743Z
SUMMARY:Spacer po Eremie Pokamedulskim  - II TURA
DESCRIPTION:EREM KAMEDULSKI NA BIELANACH W FOTOGRAFIACH LEONA BARSZCZEWSKIEGODATA: 20.07.2025, godz. 12:15MIEJSCE ZBIÓRKI: Plac przed Kościołem, ul. Dewajtis 3, Parafia bł. E. DetkensaJeszcze do niedawna......
URL:https://app.evenea.pl/event/spacerbarszczewski2/
PRIORITY:1
CLASS:PUBLIC
END:VEVENT
END:VCALENDAR
