BEGIN:VCALENDAR
VERSION:2.0
METHOD:PUBLISH
BEGIN:VEVENT
DTSTART:20200828T200000
DTEND:20200828T214500
LOCATION:Konsulat Kultury ul. Jana z Kolna 25, 81-225  Gdynia
TRANSP: OPAQUE
SEQUENCE:0
UID:
DTSTAMP:20260425T153252Z
SUMMARY:X Weekend Architektury // blok Archi FILM // film "Spacer po wodzie"
DESCRIPTION:Zapraszamy na blok filmowy pt. Archi FILM w ramach X Weekendu Architektury w Gdyni!Udział BEZPŁATNY!Miasta, architekci oraz architektura na "wielkim ekranie"Wspólnie z naszymi Partnerami,......
URL:https://app.evenea.pl/event/spacerpowodziefilm/
PRIORITY:1
CLASS:PUBLIC
END:VEVENT
END:VCALENDAR
