BEGIN:VCALENDAR
VERSION:2.0
METHOD:PUBLISH
BEGIN:VEVENT
DTSTART:20220917T160000
DTEND:20220917T173000
LOCATION:   Wrocław
TRANSP: OPAQUE
SEQUENCE:0
UID:
DTSTAMP:20260420T075152Z
SUMMARY:Kinomural 2022: spacer historyczny po Przedmieściu Odrzańskim
DESCRIPTION:Kinomural zaprasza na spacer pełen ciekawostek historycznych o Przedmieściu Odrzańskim. Kto, kiedy, jak i dlaczego akurat TU. Nie zdradzimy szczegółów, ale wspólnie poszukamy......
URL:https://app.evenea.pl/event/spacerprzedmiescieodrzanskie/
PRIORITY:1
CLASS:PUBLIC
END:VEVENT
END:VCALENDAR
