BEGIN:VCALENDAR
VERSION:2.0
METHOD:PUBLISH
BEGIN:VEVENT
DTSTART:20251002T180000
DTEND:20251002T210000
LOCATION:Centrum Kultury Studenckiej Kreślarnia Rejtana 17  Koszalin
TRANSP: OPAQUE
SEQUENCE:0
UID:
DTSTAMP:20260422T011242Z
SUMMARY:SPARKcamp#39
DESCRIPTION:Zapraszamy na kolejne spotkanie. 02 października 2025 roku (czwartek) o godz. 18.00 w Centrum Kultury Studenckiej "Kreślarnia" (Rejtana 17, 75-507 Koszalin) odbędzie się 39 edycja SPARKcamp......
URL:https://app.evenea.pl/event/sparkcamp39/
PRIORITY:1
CLASS:PUBLIC
END:VEVENT
END:VCALENDAR
