BEGIN:VCALENDAR
VERSION:2.0
METHOD:PUBLISH
BEGIN:VEVENT
DTSTART:20260305T180000
DTEND:20260305T210000
LOCATION:Centrum Kultury Studenckiej Kreślarnia Rejtana 17  Koszalin
TRANSP: OPAQUE
SEQUENCE:0
UID:
DTSTAMP:20260419T171520Z
SUMMARY:SPARKcamp#41
DESCRIPTION:Zapraszamy na kolejne spotkanie. 5 marca 2026 roku (czwartek) o godz. 18.00 w Centrum Kultury Studenckiej "Kreślarnia" (Rejtana 17, 75-507 Koszalin) odbędzie się 41 edycja SPARKcamp Koszalin.......
URL:https://app.evenea.pl/event/sparkcamp41/
PRIORITY:1
CLASS:PUBLIC
END:VEVENT
END:VCALENDAR
