BEGIN:VCALENDAR
VERSION:2.0
METHOD:PUBLISH
BEGIN:VEVENT
DTSTART:20241017T180000
DTEND:20241017T210000
LOCATION:Centrum Kultury Studenckiej Kreślarnia Rejtana 17  Koszalin
TRANSP: OPAQUE
SEQUENCE:0
UID:
DTSTAMP:20260421T102955Z
SUMMARY:SPARKcamp Koszalin #35
DESCRIPTION:Zapraszamy na kolejne spotkanie. 17 października 2024 roku (czwartek) o godz. 18.00 w Centrum Kultury Studenckiej "Kreślarnia" (Rejtana 17, 75-507 Koszalin) odbędzie się 35 edycja SPARKcamp......
URL:https://app.evenea.pl/event/sparkcampkoszalin35/
PRIORITY:1
CLASS:PUBLIC
END:VEVENT
END:VCALENDAR
