BEGIN:VCALENDAR
VERSION:2.0
METHOD:PUBLISH
BEGIN:VEVENT
DTSTART:20250605T180000
DTEND:20250605T180000
LOCATION:Uniwersytet Gdański sala teatralna im. J. Limona UG Wita Stwosza 51  Gdańsk
TRANSP: OPAQUE
SEQUENCE:0
UID:
DTSTAMP:20260423T061902Z
SUMMARY:Lilije
DESCRIPTION:"Zbrodnia to niesłychana, Pani zabija Pana..."Mroczny i epicki spektakl inspirowany teatrem ruchu i tańca, z autorską muzyką na dawnych instrumentach oraz tradycyjnym śpiewem. To opowieść o......
URL:https://app.evenea.pl/event/spektakl-lilije/
PRIORITY:1
CLASS:PUBLIC
END:VEVENT
END:VCALENDAR
