BEGIN:VCALENDAR
VERSION:2.0
METHOD:PUBLISH
BEGIN:VEVENT
DTSTART:20200702T180000
DTEND:20200702T180000
LOCATION:Powiatowe Centrum Kultury i Promocji w Miętnem (park przy Dworku) Długa 55  Miętne
TRANSP: OPAQUE
SEQUENCE:0
UID:
DTSTAMP:20260424T093500Z
SUMMARY:Teatr O!Mamy: "Żelazne trzewiczki" 
DESCRIPTION:📌 Miejsce: Park przy Powiatowym Centrum Kultury i Promocji w Miętnem, 2.07.2020 (czwartek) godz. 18.00. Prosimy zabrać koce! :-) 👉 Żelazne Trzewiczki - to historia oparta na starej......
URL:https://app.evenea.pl/event/spektaklwparku/
PRIORITY:1
CLASS:PUBLIC
END:VEVENT
END:VCALENDAR
