BEGIN:VCALENDAR
VERSION:2.0
METHOD:PUBLISH
BEGIN:VEVENT
DTSTART:20260224T190000
DTEND:20260224T190000
LOCATION:Teatr Łątek Supraśl Posterunkowa 1  Supraśl
TRANSP: OPAQUE
SEQUENCE:0
UID:
DTSTAMP:20260425T224455Z
SUMMARY:SPLOTY (24.02.2026, godz. 19:00)
DESCRIPTION:"SPLOTY" to kameralny, autorski monodram Krzysztofa Zemły inspirowany fragmentami "Traktatu o łuskaniu fasoli" - poruszającej opowieści o pamięci, tożsamości i kruchości ludzkiego......
URL:https://app.evenea.pl/event/sploty24022519/
PRIORITY:1
CLASS:PUBLIC
END:VEVENT
END:VCALENDAR
