BEGIN:VCALENDAR
VERSION:2.0
METHOD:PUBLISH
BEGIN:VEVENT
DTSTART:20260225T180000
DTEND:20260225T180000
LOCATION:Teatr Łątek Supraśl Posterunkowa 1  Supraśl
TRANSP: OPAQUE
SEQUENCE:0
UID:
DTSTAMP:20260425T224328Z
SUMMARY:SPLOTY (25.02.2026, godz. 18:00)
DESCRIPTION:"SPLOTY" to kameralny, autorski monodram Krzysztofa Zemły inspirowany fragmentami "Traktatu o łuskaniu fasoli" - poruszającej opowieści o pamięci, tożsamości i kruchości ludzkiego......
URL:https://app.evenea.pl/event/sploty250225/
PRIORITY:1
CLASS:PUBLIC
END:VEVENT
END:VCALENDAR
