BEGIN:VCALENDAR
VERSION:2.0
METHOD:PUBLISH
BEGIN:VEVENT
DTSTART:20240409T193000
DTEND:20240410T235900
LOCATION:Arche Hotel Krakowska Aleja Krakowska 237/U1, 02-180  Warszawa
TRANSP: OPAQUE
SEQUENCE:0
UID:
DTSTAMP:20260424T133917Z
SUMMARY:SPORTBIZ Summit 2024
DESCRIPTION:Link do regulaminu sprzedaży pakietów: https://tinyurl.com/sportbiz-regulamin....
URL:https://app.evenea.pl/event/sportbiz-summit/
PRIORITY:1
CLASS:PUBLIC
END:VEVENT
END:VCALENDAR
