BEGIN:VCALENDAR
VERSION:2.0
METHOD:PUBLISH
BEGIN:VEVENT
DTSTART:20200311T183000
DTEND:20200311T210000
LOCATION:Hotel Bellotto Senatorska 13/15  Warszawa
TRANSP: OPAQUE
SEQUENCE:0
UID:
DTSTAMP:20260419T140922Z
SUMMARY:WSZYSTKIE KOLORY SZTUKI - aukcja dzieł sztuki
DESCRIPTION:Znajdź idealny obraz do Twojego domu!--------------------Dobrego Wnętrza Spotkania ze Sztuką to wyjątkowe wydarzenie kulturalne organizowane przez magazyn "Dobre Wnętrze". Jego szóstą......
URL:https://app.evenea.pl/event/spotkaniazesztuka6/
PRIORITY:1
CLASS:PUBLIC
END:VEVENT
END:VCALENDAR
